Workbook

Sheet 動物検査依頼書（生化学）
A1: 【LSL No. － 】 | G1: - | K1: ～ | O1: 】 | Q1: 【依頼書総枚数： 枚】
A3: 動 物 検 査 依 頼 書
A5: ・太線枠内に必要事項をご記入ください。記載内容が結果報告書等に反映されます。
A6: ・検体発送前に本依頼書をメール(n-lsl@nisshin.com)またはFAX(0749-64-2452）送信して下さい。
A7: ・検体発送時、本依頼書も同梱して下さい。送料はお客様ご負担となります旨、大変恐れ入りますがご了承ください。
A9: 検体発送日 | G9: 年 | J9: 月 | M9: 日
A10: 貴社名
A11: 貴部署名
A12: ご氏名 | M12: 様 印
A13: ご住所 | D13: 〒
A15: 連絡先 | D15: TEL ： | O15: FAX ：
D16: E-mail：
A17: その他
A19: 動物種 | E19: マウス | I19: ラット | M19: その他（ | V19: ）
A20: 材料 および 検体数 | D20: 血清 | L20: 検体 | N20: 量不足時の希釈 | T20: 可 | W20: 不可
D21: 血漿 | L21: 検体 | N21: 希釈により測定範囲を下回る項目が出てくる可能性がございます。
D22: （抗凝固剤： | M22: ） | N22: 測定後の検体 | T22: 廃棄 | W22: 返却
D23: 尿 | L23: 検体 | N23: ＊結果報告日から1ヶ月後に廃棄いたします。再測定、追加測定に つきましては1ヶ月以内に再度ご依頼ください。 ＊＊元払いとし、搬送費として3,000円を検査料金に含めます。
D24: その他( ) | I24: ) | L24: 検体
A25: 生化学項目 | F25: 生化学項目 | K25: 生化学項目 | P25: セット項目 | U25: 尿生化学項目
C26: TP | H26: AST | L26: NEFA | Q26: ｽｸﾘｰﾆﾝｸﾞｾｯﾄ | V26: U-TP
C27: ALB | H27: ALT | L27: LDL-C | Q27: 肝・胆疾患ｾｯﾄ | V27: U-ALB(ﾋﾄ用)
C28: A/G比 | H28: ALP | L28: HDL-C | Q28: 腎疾患ｾｯﾄ | V28: U-ALB(ﾏｳｽ用)
C29: BUN | H29: LDH | L29: T-BIL | Q29: 心・脳疾患ｾｯﾄ | V29: U-ALB(ﾗｯﾄ用)
C30: CRE | H30: LAP | L30: BIL-F | Q30: 膵疾患ｾｯﾄ | V30: U-UN
C31: UA | H31: AMY | L31: TBA | Q31: 糖尿病ｾｯﾄA | V31: U-CRE
C32: NH3 | H32: CK | L32: GLU | Q32: 糖尿病ｾｯﾄB | V32: U-UA
C33: Na | H33: γ-GT | L33: PA | Q33: 糖尿病ｾｯﾄC | V33: U-Na
C34: K | H34: ChE | L34: LA | Q34: 糖尿病ｾｯﾄD | V34: U-K
C35: Cl | H35: Lip | L35: GA | V35: U-Cl
C36: Ca | H36: T-CHO | L36: T-KB | V36: U-Ca
C37: IP | H37: F-CHO | L37: HbA1c | V37: U-IP
C38: Mg | H38: E-CHO | L38: 浸透圧(血清) | V38: U-Mg
C39: Fe | H39: E/T比 | V39: U-GLU
C40: UIBC | H40: TG | V40: 浸透圧（尿）
C41: TIBC | H41: PL | V41: NAG
A42: 【備考欄】検体No.等の情報は、連番の場合は下記に、それ以外は別シート「サンプルリスト」にご記入ください。
A45: ※お客様から取得させていただいた個人情報、及び検査結果を販売代理店を除く第三者に開示・提供することはありません。
A46: ● 依頼書及び検体送付先 ●
A47: オリエンタル酵母工業株式会社 長浜工場 長浜ライフサイエンスラボラトリー
...

Sheet 動物検査依頼書 (特殊) 
A1: 【LSL No. | D1: ='動物検査依頼書（生化学）'!D1:F1 -> 0 | G1: - | H1: ='動物検査依頼書（生化学）'!H1:J1 -> 0 | K1: ～ | L1: ='動物検査依頼書（生化学）'!L1:N1 -> 0 | O1: 】 | Q1: 【依頼書総枚数： 枚】
A3: 動 物 検 査 依 頼 書
A5: ・太線枠内に必要事項をご記入ください。記載内容が結果報告書等に反映されます。
A6: ・検体発送前に本依頼書をメール(n-lsl@nisshin.com)またはFAX(0749-64-2452）送信して下さい。
A7: ・検体発送時、本依頼書も同梱して下さい。送料はお客様ご負担となります旨、恐れ入りますがご了承ください。
A9: 検体発送日 | D9: ='動物検査依頼書（生化学）'!D9:F9 -> 0 | G9: 年 | H9: ='動物検査依頼書（生化学）'!H9:I9 -> 0 | J9: 月 | K9: ='動物検査依頼書（生化学）'!K9:L9 -> 0 | M9: 日
A10: 貴社名 | D10: ='動物検査依頼書（生化学）'!D10:Y10 -> 0
A11: 貴部署名 | D11: ='動物検査依頼書（生化学）'!D11:Y11 -> 0
A12: ご氏名 | D12: ='動物検査依頼書（生化学）'!D12:L12 -> 0 | M12: 様 印
A13: ご住所 | D13: 〒 | E13: ='動物検査依頼書（生化学）'!E13:G13 -> 0
D14: ='動物検査依頼書（生化学）'!D14:Y14 -> 0
A15: 連絡先 | D15: TEL ： | G15: ='動物検査依頼書（生化学）'!G15:N15 -> 0 | O15: FAX ： | R15: ='動物検査依頼書（生化学）'!R15:Y15 -> 0
D16: E-mail： | G16: ='動物検査依頼書（生化学）'!G16:Y16 -> 0
A17: その他 | D17: ='動物検査依頼書（生化学）'!D17:Y17 -> 0
A19: 動物種 | E19: マウス | I19: ラット | M19: その他（ | V19: ）
A20: 材料 および 検体数 | D20: 血清 | L20: 検体 | N20: 量不足時の希釈 | T20: 可 | W20: 不可
D21: 血漿 | L21: 検体 | N21: 希釈により測定範囲を下回る項目が出てくる可能性がございます。
D22: （抗凝固剤： | M22: ） | N22: 測定後の検体 | T22: 廃棄 | W22: 返却
D23: 尿 | L23: 検体 | N23: ＊結果報告日から1ヶ月後に廃棄いたします。再測定、追加測定に つきましては1ヶ月以内に再度ご依頼ください。 ＊＊元払いとし、搬送費として3,000円を検査料金に含めます。
D24: その他( ) | I24: ) | L24: 検体
A25: 特殊検査項目 | F25: 特殊検査項目 | K25: 内分泌学的検査項目 | P25: 免疫関連検査項目 | U25: ステロイドホルモン （LC-MS/MS）
C26: IgG | H26: 血中ｹﾄﾝ体分画 | L26: T3 | Q26: IL-1β
C27: IgM | H27: 蛋白分画 | L27: T4 | Q27: IL-6 | V27: エストロン
C28: IgA | H28: ｱﾐﾉ酸分析(39種) | L28: コルチコステロン | Q28: IL-8 | V28: エストロン （超高感度）
C29: IgE | H29: ヒアルロン酸 | L29: インスリン | Q29: TNF-α | V29: エストラジオール
C30: CRP | H30: Ⅳ型ｺﾗｰｹﾞﾝ | L30: intact-PTH | Q30: IGF-Ⅰ | V30: エストラジオール （超高感度）
C31: TRACP-5b | H31: 8-OHdG | L31: レプチン | Q31: VEGF | V31: テストステロン
C32: オステオカルシン | L32: アディポネクチン | V32: ｼﾞﾋﾄﾞﾄﾃｽﾄｽﾃﾛﾝ
C33: オステオポンチン | L33: アルドステロン | V33: ｱﾝﾄﾞﾛｽﾃﾝｼﾞｵﾝ
C34: フェリチン | L34: レニン活性 | V34: プロゲステロン
C35: トランスフェリン | P35: 血液学的検査項目 | V35: プレグネノロン
C36: Cys-C | Q36: 血液一般検査 | V36: アルドステロン
C37: NGAL | Q37: 血液像 | V37: 17-ﾋﾄﾞﾛｷｼﾌﾟﾛｹﾞｽﾃﾛﾝ
C38: KIM-1 | Q38: 網状赤血球数 | V38: 11-ﾃﾞｵｷｼｺﾙﾁｺｽﾃﾛﾝ
Q39: PT | V39: 25-OHD
Q40: APTT | V40: 1α,25(OH)2D
A42: 【備考欄】検体No.等の情報は、連番の場合は下記に、それ以外は別シート「サンプルリスト」にご記入ください。
A45: ※お客様から取得させていただいた個人情報、及び検査結果を販売代理店を除く第三者に開示・提供することはありません。
A46: ● 依頼書及び検体送付先 ●
A47: オリエンタル酵母工業株式会社 長浜工場 長浜ライフサイエンスラボラトリー
...

Sheet サンプルリスト（材料1）
A1: FALSE | C1: LSL No. | D1: ='動物検査依頼書（生化学）'!D1&'動物検査依頼書（生化学）'!G1&'動物検査依頼書（生化学）'!H1&'動物検査依頼書（生化学）'!K1&'動物検査依頼書（生化学）'!L1 -> -～
A2: 【サンプルリスト】
B3: 貴社名 | D3: ='動物検査依頼書（生化学）'!D10:Y10 -> 0
B4: ご氏名 | D4: ='動物検査依頼書（生化学）'!D12:L12 -> 0
B6: ・検査結果報告書には以下の「No.」欄の通し番号がサンプルNo.として記載されます。
B7: ・「サンプル名」欄でのご報告を希望される場合は以下にチェックをお願いします。
B8: ・「サンプル名」はシステムの都合上、半角11文字以内でお願いいたします。
B10: ・報告書に記載されるサンプルNo.の形式 ： | E10: 「サンプル名」欄を希望
B12: No. | D12: サンプル名 | E12: 備考
B13: 1
B14: =B13+1 -> 2
B15: =B14+1 -> 3
B16: =B15+1 -> 4
B17: =B16+1 -> 5
B18: =B17+1 -> 6
B19: =B18+1 -> 7
B20: =B19+1 -> 8
B21: =B20+1 -> 9
B22: =B21+1 -> 10
B23: =B22+1 -> 11
B24: =B23+1 -> 12
B25: =B24+1 -> 13
... B82: =B81+1 -> 70

Sheet サンプルリスト（材料2)
A1: FALSE | C1: LSL No. | D1: ='動物検査依頼書（生化学）'!D1&'動物検査依頼書（生化学）'!G1&'動物検査依頼書（生化学）'!H1&'動物検査依頼書（生化学）'!K1&'動物検査依頼書（生化学）'!L1 -> -～
A2: 【サンプルリスト】
B3: 貴社名 | D3: ='動物検査依頼書（生化学）'!D10:Y10 -> 0
B4: ご氏名 | D4: ='動物検査依頼書（生化学）'!D12:L12 -> 0
B6: ・検査結果報告書には以下の「No.」欄の通し番号がサンプルNo.として記載されます。
B7: ・「サンプル名」欄でのご報告を希望される場合は以下にチェックをお願いします。
B8: ・「サンプル名」はシステムの都合上、半角11文字以内でお願いいたします。
B10: ・報告書に記載されるサンプルNo.の形式 ： | E10: 「サンプル名」欄を希望
B12: No. | D12: サンプル名 | E12: 備考
B13: 1
B14: =B13+1 -> 2
B15: =B14+1 -> 3
B16: =B15+1 -> 4
B17: =B16+1 -> 5
B18: =B17+1 -> 6
B19: =B18+1 -> 7
B20: =B19+1 -> 8
B21: =B20+1 -> 9
B22: =B21+1 -> 10
B23: =B22+1 -> 11
B24: =B23+1 -> 12
B25: =B24+1 -> 13
... B82: =B81+1 -> 70
